BEGIN:VCALENDAR
VERSION:2.0
METHOD:PUBLISH
CALSCALE:GREGORIAN
X-WR-TIMEZONE:America/New_YORK
BEGIN:VEVENT
ORGANIZER:MAILTO:webcentral@uc.edu
DTSTART:20200408T160000Z
DTEND:20210331T160000Z
LOCATION: Online Course
UID:20260423T093420Z@uc.edu
DTSTAMP:20260423T093420Z
SUMMARY:Biosafety Cabinets
DESCRIPTION:<p>This course is designed for individuals that use Biosafety Cabinets (aka tissue culture hood).</p>

<p><strong>Not a UC personnel&nbsp;?</strong> You can still take this training. Just login through the &quot;External Login&quot; link and create a &ldquo;new UC&rdquo; account.</p>

PRIORITY:5
CLASS:PUBLIC
END:VEVENT
END:VCALENDAR