BEGIN:VCALENDAR
VERSION:2.0
METHOD:PUBLISH
CALSCALE:GREGORIAN
X-WR-TIMEZONE:America/New_YORK
BEGIN:VEVENT
ORGANIZER:MAILTO:webcentral@uc.edu
DTSTART:20210908T190000Z
DTEND:20210908T203000Z
LOCATION: This session will be presented virtually.
UID:20260423T174933Z@uc.edu
DTSTAMP:20260423T174933Z
SUMMARY:R Introduction Workshop
DESCRIPTION:<p>R Introduction Workshop<br />
<br />
<strong>Prerequisites:&nbsp;</strong><br />
-R and R studio installed&nbsp;<br />
<strong>Goals:&nbsp;</strong><br />
-Brief introduction R<br />
-Explore R and R studio environment&nbsp;<br />
-Basic functions of R&nbsp;<br />
-R for basic calculation<br />
-R objects and assignments<br />
-Understanding functions and getting help in R<br />
-Download and install packages<br />
-Import data<br />
-Loading, viewing and exploring data<br />
-Simple modeling<br />
-Visualize data basics<br />
-Export data<br />
<strong>Expectations:&nbsp;</strong><br />
This is only an introduction to the R and R studio environment. Learning a new programming language, like a spoken language, takes years of practice, so it will not be possible to cover everything but many common features that most of you will use most of the time will be highlighted.</p>

<p><strong>Please, follow the WebEx link in the Reminder Email sent by the Faculty Enrichment Center to connect.&nbsp;</strong></p>

<p>&nbsp;</p>

PRIORITY:5
CLASS:PUBLIC
END:VEVENT
END:VCALENDAR