BEGIN:VCALENDAR
VERSION:2.0
METHOD:PUBLISH
CALSCALE:GREGORIAN
X-WR-TIMEZONE:America/New_YORK
BEGIN:VEVENT
ORGANIZER:MAILTO:webcentral@uc.edu
DTSTART:20220214T190000Z
DTEND:20220214T203000Z
LOCATION:231 Albert Sabin Way Cincinnati, Ohio 45267-0574 United States of America HSL Troup Learning Space G005G
UID:20260422T020824Z@uc.edu
DTSTAMP:20260422T020824Z
SUMMARY:Bioinformatics: Seeking and Finding Data
DESCRIPTION:<p>In this workshop researchers will learn to navigate the bioinformatics tools Ensembl and Cytoscape to discover information about genes, gene variants, proteins, biological pathways, comparative genomics, molecular interactions, and phenotypes associated with disease.</p>

<p><strong>Please bring your own laptop for the hands-on exercises.</strong></p>

PRIORITY:5
CLASS:PUBLIC
END:VEVENT
END:VCALENDAR