BEGIN:VCALENDAR
VERSION:2.0
METHOD:PUBLISH
CALSCALE:GREGORIAN
X-WR-TIMEZONE:America/New_YORK
BEGIN:VEVENT
ORGANIZER:MAILTO:webcentral@uc.edu
DTSTART:20220216T160000Z
DTEND:20220218T220000Z
LOCATION:Cincinnati, Ohio 45206 United States of America This session will be presented virtually
UID:20260422T020823Z@uc.edu
DTSTAMP:20260422T020823Z
SUMMARY:XSEDE HPC Workshop: BIG DATA and Machine Learning 
DESCRIPTION:<h2>XSEDE HPC Workshop: BIG DATA and Machine Learning</h2>

<h3>February 16 &amp; 18, 2022</h3>

<p style="margin-left:0px; margin-right:0px">XSEDE, along with the Pittsburgh Supercomputing Center, is pleased to present a two day Big Data and Machine Learning workshop. This workshop will focus on topics including big data analytics and machine learning with Spark, and deep learning using Tensorflow.</p>

<p style="margin-left:0px; margin-right:0px">Due to COVID-19, this workshop will be remote, using Zoom.</p>

PRIORITY:5
CLASS:PUBLIC
END:VEVENT
END:VCALENDAR