BEGIN:VCALENDAR
VERSION:2.0
METHOD:PUBLISH
CALSCALE:GREGORIAN
X-WR-TIMEZONE:America/New_YORK
BEGIN:VEVENT
ORGANIZER:MAILTO:webcentral@uc.edu
DTSTART:20220901T133000Z
DTEND:20220901T150000Z
LOCATION:Braunstein Hall Cincinnati, Ohio 45219 United States of America 240 H Braunstein Hall (The Visualization Lab inside GMP Library)
UID:20260423T014100Z@uc.edu
DTSTAMP:20260423T014100Z
SUMMARY:Data and Computational Science Series - Data Visualization Accessibility
DESCRIPTION:<p>A well thought out and designed visualization can convey meaning and deep insight into vast amounts of data.&nbsp; In the third of a four part lecture series, this interactive workshop will focus on what makes a data visualization accessible to all users of the content especially people with disabilities&rdquo;.</p>

<p>&nbsp;</p>

<p>This will be an in-person workshop.&nbsp; A recording will be made available through the UC LIbraries Kaltura Instance after the workshop.</p>

PRIORITY:5
CLASS:PUBLIC
END:VEVENT
END:VCALENDAR