BEGIN:VCALENDAR
VERSION:2.0
METHOD:PUBLISH
CALSCALE:GREGORIAN
X-WR-TIMEZONE:America/New_YORK
BEGIN:VEVENT
ORGANIZER:MAILTO:webcentral@uc.edu
DTSTART:20240307T180000Z
DTEND:20240307T190000Z
LOCATION: This workshop will be presented virtually.
UID:20260424T134334Z@uc.edu
DTSTAMP:20260424T134334Z
SUMMARY:Research Faculty Development (RFD): Commercialization and Your Research
DESCRIPTION:<div>During this virtual session presenter(s) will provide a high level of process of commercializing research. Additionally attendees will gain a general understanding of how commercialization can create impact and why researchers would want to participate in commercialization.&nbsp;</div>

<div>&nbsp;</div>

<div>Please feel free to submit questions in advance to enrichfaculty@uc.edu</div>

PRIORITY:5
CLASS:PUBLIC
END:VEVENT
END:VCALENDAR