BEGIN:VCALENDAR
VERSION:2.0
METHOD:PUBLISH
CALSCALE:GREGORIAN
X-WR-TIMEZONE:America/New_YORK
BEGIN:VEVENT
ORGANIZER:MAILTO:webcentral@uc.edu
DTSTART:20241003T150000Z
DTEND:20241003T170000Z
LOCATION:2911 Woodside Drive Room 540 Cincinnati, Ohio 45211 Langsam Library FEC 540 E, F+G
UID:20260424T092953Z@uc.edu
DTSTAMP:20260424T092953Z
SUMMARY:Fostering Creativity and Voice: A Digital Storytelling Workshop with James Rees and Flavia Bastos
DESCRIPTION:<p>This workshop is brought to you as a collaboration between <a class="fui-Link ___1q1shib f2hkw1w f3rmtva f1ewtqcl fyind8e f1k6fduh f1w7gpdv fk6fouc fjoy568 figsok6 f1s184ao f1mk8lai fnbmjn9 f1o700av f13mvf36 f1cmlufx f9n3di6 f1ids18y f1tx3yz7 f1deo86v f1eh06m1 f1iescvh fhgqx19 f1olyrje f1p93eir f1nev41a f1h8hb77 f1lqvz6u f10aw75t fsle3fq f17ae5zn" href="https://www.fotofocus.org/?gad_source=1&amp;gclid=Cj0KCQjwh7K1BhCZARIsAKOrVqEVBTBY_6EzXplDVqCMzAqjSc6LG8ehDdRRA_qbnsFl2LDcfnXS88YaAo9lEALw_wcB" id="menur3on" rel="noreferrer noopener" target="_blank" title="https://www.fotofocus.org/?gad_source=1&amp;gclid=cj0kcqjwh7k1bhczarisakorvqevbtby_6ezxpldvqcmzaqjsc6lg8ehddrra_qbnsfl2ldcfnxs88yaao9lealw_wcb"><strong>FotoFocus</strong></a>, the <a class="fui-Link ___1q1shib f2hkw1w f3rmtva f1ewtqcl fyind8e f1k6fduh f1w7gpdv fk6fouc fjoy568 figsok6 f1s184ao f1mk8lai fnbmjn9 f1o700av f13mvf36 f1cmlufx f9n3di6 f1ids18y f1tx3yz7 f1deo86v f1eh06m1 f1iescvh fhgqx19 f1olyrje f1p93eir f1nev41a f1h8hb77 f1lqvz6u f10aw75t fsle3fq f17ae5zn" href="https://www.uc.edu/about/cetl.html" id="menur3op" rel="noreferrer noopener" target="_blank" title="https://www.uc.edu/about/cetl.html"><strong>Center for the Enhancement of Teaching and Learning</strong></a> and the <a class="fui-Link ___1q1shib f2hkw1w f3rmtva f1ewtqcl fyind8e f1k6fduh f1w7gpdv fk6fouc fjoy568 figsok6 f1s184ao f1mk8lai fnbmjn9 f1o700av f13mvf36 f1cmlufx f9n3di6 f1ids18y f1tx3yz7 f1deo86v f1eh06m1 f1iescvh fhgqx19 f1olyrje f1p93eir f1nev41a f1h8hb77 f1lqvz6u f10aw75t fsle3fq f17ae5zn" href="https://www.uc.edu/about/provost/faculty/faculty-enrichment-center.html" id="menur3or" rel="noreferrer noopener" target="_blank" title="https://www.uc.edu/about/provost/faculty/faculty-enrichment-center.html"><strong>UC Faculty Enrichment Center</strong></a>.</p>

<p>&quot;This workshop is designed for anyone interested in exploring a story from their own life, experiencing a creative process, and learning to produce a simple short video for personal and/or educational use. We will experiment with the possibilities of widely available tools to support the digital storytelling process. Drawing upon the experience of an ongoing research project that promotes digital literacy, this workshop will invite reflection about how to articulate, augment, and refine voice through digital storytelling and discussion about its possible applications to education.</p>

<p>Our focus will be on developing student voices through the exploration of controversial issues and digital storytelling, aiming to promote dialogue and drive positive change. Educators will be equipped with the tools to create a supportive and dynamic classroom environment, where art and dialogue empower students and facilitate meaningful transformations.&quot;</p>

PRIORITY:5
CLASS:PUBLIC
END:VEVENT
END:VCALENDAR