BEGIN:VCALENDAR
VERSION:2.0
METHOD:PUBLISH
CALSCALE:GREGORIAN
X-WR-TIMEZONE:America/New_YORK
BEGIN:VEVENT
ORGANIZER:MAILTO:webcentral@uc.edu
DTSTART:20241120T160000Z
DTEND:20241120T170000Z
LOCATION: Zoom: https://ucincinnati.zoom.us/j/81967130334?pwd=W7AHGmqPzRIl8HW9fLtPi83g7ZBEVC.1
Meeting ID: 819 6713 0334
Passcode: 637092
UID:20260421T035637Z@uc.edu
DTSTAMP:20260421T035637Z
SUMMARY:The Art & Science of Giving and Receiving Feedback
DESCRIPTION:<span style="color:rgb(33, 33, 33); font-size:16px">Giving and receiving feedback are among the most challenging conversations we have. In this interactive session, participants are invited to explore a structural framework to support these difficult conversations in all of their various capacities&mdash;participants will have the opportunity to exercise several tangible techniques in real time to support skill-building for future applications.</span>
PRIORITY:5
CLASS:PUBLIC
END:VEVENT
END:VCALENDAR